Index of /checkResults/3.18/bioc-LATEST/seqbias/raw-results/lconway
Name
Last modified
Size
Description
Parent Directory
-
buildsrc-out.txt
05-Mar-2024 01:37
5.6K
buildsrc-summary.dcf
05-Mar-2024 01:37
342
install-out.txt
05-Mar-2024 01:37
5.4K
install-summary.dcf
05-Mar-2024 01:37
272