Name | Last modified | Size | Description | |
---|---|---|---|---|
Parent Directory | - | |||
buildbin-out.txt | 18-Apr-2024 00:38 | 21K | ||
buildbin-summary.dcf | 18-Apr-2024 00:38 | 522 | ||
buildsrc-out.txt | 18-Apr-2024 00:38 | 904 | ||
buildsrc-summary.dcf | 18-Apr-2024 00:38 | 424 | ||
checksrc-out.txt | 18-Apr-2024 00:38 | 9.2K | ||
checksrc-summary.dcf | 18-Apr-2024 00:38 | 445 | ||
install-out.txt | 18-Apr-2024 00:38 | 18K | ||
install-summary.dcf | 18-Apr-2024 00:38 | 267 | ||