Name | Last modified | Size | Description | |
---|---|---|---|---|
Parent Directory | - | |||
buildbin-out.txt | 05-Mar-2024 01:37 | 21K | ||
buildbin-summary.dcf | 05-Mar-2024 01:37 | 522 | ||
buildsrc-out.txt | 05-Mar-2024 01:37 | 904 | ||
buildsrc-summary.dcf | 05-Mar-2024 01:37 | 424 | ||
checksrc-out.txt | 05-Mar-2024 01:37 | 9.2K | ||
checksrc-summary.dcf | 05-Mar-2024 01:37 | 444 | ||
install-out.txt | 05-Mar-2024 01:37 | 18K | ||
install-summary.dcf | 05-Mar-2024 01:37 | 267 | ||