Name | Last modified | Size | Description | |
---|---|---|---|---|
Parent Directory | - | |||
buildbin-out.txt | 18-Apr-2024 00:38 | 38K | ||
buildbin-summary.dcf | 18-Apr-2024 00:38 | 555 | ||
buildsrc-out.txt | 18-Apr-2024 00:38 | 1.2K | ||
buildsrc-summary.dcf | 18-Apr-2024 00:38 | 440 | ||
checksrc-out.txt | 18-Apr-2024 00:38 | 18K | ||
checksrc-summary.dcf | 18-Apr-2024 00:38 | 466 | ||
install-out.txt | 18-Apr-2024 00:38 | 35K | ||
install-summary.dcf | 18-Apr-2024 00:38 | 278 | ||