Name | Last modified | Size | Description | |
---|---|---|---|---|
Parent Directory | - | |||
buildbin-out.txt | 05-Mar-2024 01:37 | 7.1K | ||
buildbin-summary.dcf | 05-Mar-2024 01:37 | 509 | ||
buildsrc-out.txt | 05-Mar-2024 01:37 | 833 | ||
buildsrc-summary.dcf | 05-Mar-2024 01:37 | 417 | ||
checksrc-out.txt | 05-Mar-2024 01:37 | 4.8K | ||
checksrc-summary.dcf | 05-Mar-2024 01:37 | 436 | ||
install-out.txt | 05-Mar-2024 01:37 | 4.7K | ||
install-summary.dcf | 05-Mar-2024 01:37 | 262 | ||