Index of /checkResults/3.18/bioc-LATEST/qrqc/raw-results/palomino4
Name
Last modified
Size
Description
Parent Directory
-
buildsrc-out.txt
18-Apr-2024 00:37
3.6K
buildsrc-summary.dcf
18-Apr-2024 00:37
358
install-out.txt
18-Apr-2024 00:37
3.3K
install-summary.dcf
18-Apr-2024 00:37
264