Index of /checkResults/3.18/bioc-LATEST/qrqc/raw-results/nebbiolo2
Name
Last modified
Size
Description
Parent Directory
-
install-out.txt
18-Apr-2024 00:36
6.7K
install-summary.dcf
18-Apr-2024 00:36
255
buildsrc-out.txt
18-Apr-2024 00:36
7.0K
buildsrc-summary.dcf
18-Apr-2024 00:36
326