Index of /checkResults/3.18/bioc-LATEST/qrqc/raw-results/merida1
Name
Last modified
Size
Description
Parent Directory
-
buildsrc-out.txt
18-Apr-2024 00:38
4.9K
buildsrc-summary.dcf
18-Apr-2024 00:38
336
install-out.txt
18-Apr-2024 00:38
4.7K
install-summary.dcf
18-Apr-2024 00:38
265