Index of /checkResults/3.18/bioc-LATEST/qrqc/raw-results/lconway
Name
Last modified
Size
Description
Parent Directory
-
buildsrc-out.txt
05-Mar-2024 01:37
4.9K
buildsrc-summary.dcf
05-Mar-2024 01:37
336
install-out.txt
05-Mar-2024 01:37
4.7K
install-summary.dcf
05-Mar-2024 01:37
265