Index of /checkResults/3.18/bioc-LATEST/qrqc/raw-results/kunpeng2
Name
Last modified
Size
Description
Parent Directory
-
buildsrc-out.txt
03-Nov-2023 00:41
6.5K
buildsrc-summary.dcf
03-Nov-2023 00:41
320
install-out.txt
03-Nov-2023 00:41
6.2K
install-summary.dcf
03-Nov-2023 00:41
249