Name | Last modified | Size | Description | |
---|---|---|---|---|
Parent Directory | - | |||
buildsrc-out.txt | 18-Apr-2024 00:36 | 1.1K | ||
buildsrc-summary.dcf | 18-Apr-2024 00:36 | 435 | ||
checksrc-out.txt | 18-Apr-2024 00:36 | 7.7K | ||
checksrc-summary.dcf | 18-Apr-2024 00:36 | 438 | ||
install-out.txt | 18-Apr-2024 00:36 | 1.8K | ||
install-summary.dcf | 18-Apr-2024 00:36 | 271 | ||