Name | Last modified | Size | Description | |
---|---|---|---|---|
Parent Directory | - | |||
buildsrc-out.txt | 03-Nov-2023 00:40 | 901 | ||
buildsrc-summary.dcf | 03-Nov-2023 00:40 | 417 | ||
checksrc-out.txt | 03-Nov-2023 00:40 | 5.6K | ||
checksrc-summary.dcf | 03-Nov-2023 00:40 | 429 | ||
install-out.txt | 03-Nov-2023 00:40 | 5.2K | ||
install-summary.dcf | 03-Nov-2023 00:40 | 257 | ||