Name | Last modified | Size | Description | |
---|---|---|---|---|
Parent Directory | - | |||
buildbin-out.txt | 18-Apr-2024 00:36 | 2.7K | ||
buildbin-summary.dcf | 18-Apr-2024 00:36 | 521 | ||
buildsrc-out.txt | 18-Apr-2024 00:36 | 913 | ||
buildsrc-summary.dcf | 18-Apr-2024 00:36 | 457 | ||
checksrc-out.txt | 18-Apr-2024 00:36 | 89K | ||
checksrc-summary.dcf | 18-Apr-2024 00:36 | 451 | ||
install-out.txt | 18-Apr-2024 00:36 | 2.5K | ||
install-summary.dcf | 18-Apr-2024 00:36 | 270 | ||