Name | Last modified | Size | Description | |
---|---|---|---|---|
Parent Directory | - | |||
buildsrc-out.txt | 03-Nov-2023 00:40 | 800 | ||
buildsrc-summary.dcf | 03-Nov-2023 00:40 | 411 | ||
checksrc-out.txt | 03-Nov-2023 00:40 | 5.3K | ||
checksrc-summary.dcf | 03-Nov-2023 00:40 | 417 | ||
install-out.txt | 03-Nov-2023 00:40 | 1.0K | ||
install-summary.dcf | 03-Nov-2023 00:40 | 253 | ||