Name | Last modified | Size | Description | |
---|---|---|---|---|
Parent Directory | - | |||
buildbin-out.txt | 18-Apr-2024 00:36 | 1.6K | ||
buildbin-summary.dcf | 18-Apr-2024 00:36 | 581 | ||
buildsrc-out.txt | 18-Apr-2024 00:36 | 1.3K | ||
buildsrc-summary.dcf | 18-Apr-2024 00:36 | 496 | ||
checksrc-out.txt | 18-Apr-2024 00:36 | 11K | ||
checksrc-summary.dcf | 18-Apr-2024 00:36 | 491 | ||
install-out.txt | 18-Apr-2024 00:36 | 1.4K | ||
install-summary.dcf | 18-Apr-2024 00:36 | 290 | ||