Name | Last modified | Size | Description | |
---|---|---|---|---|
Parent Directory | - | |||
buildbin-out.txt | 18-Apr-2024 00:36 | 3.5K | ||
buildbin-summary.dcf | 18-Apr-2024 00:36 | 496 | ||
buildsrc-out.txt | 18-Apr-2024 00:36 | 916 | ||
buildsrc-summary.dcf | 18-Apr-2024 00:36 | 439 | ||
checksrc-out.txt | 18-Apr-2024 00:36 | 7.4K | ||
checksrc-summary.dcf | 18-Apr-2024 00:36 | 441 | ||
install-out.txt | 18-Apr-2024 00:36 | 3.4K | ||
install-summary.dcf | 18-Apr-2024 00:36 | 262 | ||