Name | Last modified | Size | Description | |
---|---|---|---|---|
Parent Directory | - | |||
buildsrc-out.txt | 03-Nov-2023 00:40 | 881 | ||
buildsrc-summary.dcf | 03-Nov-2023 00:40 | 403 | ||
checksrc-out.txt | 03-Nov-2023 00:40 | 7.7K | ||
checksrc-summary.dcf | 03-Nov-2023 00:40 | 411 | ||
install-out.txt | 03-Nov-2023 00:40 | 3.1K | ||
install-summary.dcf | 03-Nov-2023 00:40 | 247 | ||