Name | Last modified | Size | Description | |
---|---|---|---|---|
Parent Directory | - | |||
install-summary.dcf | 03-Nov-2023 00:40 | 259 | ||
install-out.txt | 03-Nov-2023 00:40 | 949 | ||
checksrc-summary.dcf | 03-Nov-2023 00:40 | 435 | ||
checksrc-out.txt | 03-Nov-2023 00:40 | 4.1K | ||
buildsrc-summary.dcf | 03-Nov-2023 00:40 | 419 | ||
buildsrc-out.txt | 03-Nov-2023 00:40 | 780 | ||