Name | Last modified | Size | Description | |
---|---|---|---|---|
Parent Directory | - | |||
buildsrc-out.txt | 18-Apr-2024 00:35 | 910 | ||
buildsrc-summary.dcf | 18-Apr-2024 00:35 | 425 | ||
checksrc-out.txt | 18-Apr-2024 00:35 | 4.2K | ||
checksrc-summary.dcf | 18-Apr-2024 00:35 | 424 | ||
install-out.txt | 18-Apr-2024 00:35 | 3.4K | ||
install-summary.dcf | 18-Apr-2024 00:35 | 264 | ||