Name | Last modified | Size | Description | |
---|---|---|---|---|
Parent Directory | - | |||
buildsrc-out.txt | 03-Nov-2023 00:40 | 904 | ||
buildsrc-summary.dcf | 03-Nov-2023 00:40 | 419 | ||
checksrc-out.txt | 03-Nov-2023 00:40 | 4.1K | ||
checksrc-summary.dcf | 03-Nov-2023 00:40 | 427 | ||
install-out.txt | 03-Nov-2023 00:40 | 3.3K | ||
install-summary.dcf | 03-Nov-2023 00:40 | 258 | ||