Name | Last modified | Size | Description | |
---|---|---|---|---|
Parent Directory | - | |||
buildbin-out.txt | 18-Apr-2024 00:36 | 8.5K | ||
buildbin-summary.dcf | 18-Apr-2024 00:36 | 515 | ||
buildsrc-out.txt | 18-Apr-2024 00:36 | 871 | ||
buildsrc-summary.dcf | 18-Apr-2024 00:36 | 452 | ||
checksrc-out.txt | 18-Apr-2024 00:36 | 5.3K | ||
checksrc-summary.dcf | 18-Apr-2024 00:36 | 453 | ||
install-out.txt | 18-Apr-2024 00:36 | 8.3K | ||
install-summary.dcf | 18-Apr-2024 00:36 | 269 | ||