Name | Last modified | Size | Description | |
---|---|---|---|---|
Parent Directory | - | |||
install-summary.dcf | 03-Nov-2023 00:40 | 265 | ||
buildsrc-summary.dcf | 03-Nov-2023 00:40 | 430 | ||
checksrc-summary.dcf | 03-Nov-2023 00:40 | 441 | ||
buildsrc-out.txt | 03-Nov-2023 00:40 | 824 | ||
install-out.txt | 03-Nov-2023 00:40 | 1.0K | ||
checksrc-out.txt | 03-Nov-2023 00:40 | 4.1K | ||