Name | Last modified | Size | Description | |
---|---|---|---|---|
Parent Directory | - | |||
buildbin-out.txt | 05-Mar-2024 01:37 | 5.1K | ||
buildbin-summary.dcf | 05-Mar-2024 01:37 | 530 | ||
buildsrc-out.txt | 05-Mar-2024 01:37 | 909 | ||
buildsrc-summary.dcf | 05-Mar-2024 01:37 | 427 | ||
checksrc-out.txt | 05-Mar-2024 01:37 | 9.7K | ||
checksrc-summary.dcf | 05-Mar-2024 01:37 | 450 | ||
install-out.txt | 05-Mar-2024 01:37 | 2.4K | ||
install-summary.dcf | 05-Mar-2024 01:37 | 269 | ||