Name | Last modified | Size | Description | |
---|---|---|---|---|
Parent Directory | - | |||
buildbin-out.txt | 18-Apr-2024 00:36 | 3.3K | ||
buildbin-summary.dcf | 18-Apr-2024 00:36 | 521 | ||
buildsrc-out.txt | 18-Apr-2024 00:36 | 936 | ||
buildsrc-summary.dcf | 18-Apr-2024 00:36 | 456 | ||
checksrc-out.txt | 18-Apr-2024 00:36 | 10K | ||
checksrc-summary.dcf | 18-Apr-2024 00:36 | 451 | ||
install-out.txt | 18-Apr-2024 00:36 | 3.1K | ||
install-summary.dcf | 18-Apr-2024 00:36 | 270 | ||