Name | Last modified | Size | Description | |
---|---|---|---|---|
Parent Directory | - | |||
buildbin-out.txt | 05-Mar-2024 01:37 | 7.8K | ||
buildbin-summary.dcf | 05-Mar-2024 01:37 | 536 | ||
buildsrc-out.txt | 05-Mar-2024 01:37 | 913 | ||
buildsrc-summary.dcf | 05-Mar-2024 01:37 | 430 | ||
checksrc-out.txt | 05-Mar-2024 01:37 | 10K | ||
checksrc-summary.dcf | 05-Mar-2024 01:37 | 448 | ||
install-out.txt | 05-Mar-2024 01:37 | 5.8K | ||
install-summary.dcf | 05-Mar-2024 01:37 | 271 | ||