Name | Last modified | Size | Description | |
---|---|---|---|---|
Parent Directory | - | |||
buildsrc-out.txt | 18-Apr-2024 00:35 | 901 | ||
buildsrc-summary.dcf | 18-Apr-2024 00:35 | 442 | ||
checksrc-out.txt | 18-Apr-2024 00:35 | 4.1K | ||
checksrc-summary.dcf | 18-Apr-2024 00:35 | 446 | ||
install-out.txt | 18-Apr-2024 00:35 | 1.0K | ||
install-summary.dcf | 18-Apr-2024 00:35 | 275 | ||