Name | Last modified | Size | Description | |
---|---|---|---|---|
Parent Directory | - | |||
buildbin-out.txt | 18-Apr-2024 00:36 | 3.5K | ||
buildbin-summary.dcf | 18-Apr-2024 00:36 | 533 | ||
buildsrc-out.txt | 18-Apr-2024 00:36 | 886 | ||
buildsrc-summary.dcf | 18-Apr-2024 00:36 | 464 | ||
checksrc-out.txt | 18-Apr-2024 00:36 | 4.5K | ||
checksrc-summary.dcf | 18-Apr-2024 00:36 | 459 | ||
install-out.txt | 18-Apr-2024 00:36 | 3.3K | ||
install-summary.dcf | 18-Apr-2024 00:36 | 274 | ||