Name | Last modified | Size | Description | |
---|---|---|---|---|
Parent Directory | - | |||
install-summary.dcf | 18-Apr-2024 00:36 | 275 | ||
install-out.txt | 18-Apr-2024 00:36 | 135K | ||
checksrc-summary.dcf | 18-Apr-2024 00:36 | 465 | ||
checksrc-out.txt | 18-Apr-2024 00:36 | 4.9K | ||
buildsrc-summary.dcf | 18-Apr-2024 00:36 | 464 | ||
buildsrc-out.txt | 18-Apr-2024 00:36 | 876 | ||
buildbin-summary.dcf | 18-Apr-2024 00:36 | 534 | ||
buildbin-out.txt | 18-Apr-2024 00:36 | 136K | ||