Name | Last modified | Size | Description | |
---|---|---|---|---|
Parent Directory | - | |||
install-out.txt | 03-Nov-2023 00:40 | 87K | ||
install-summary.dcf | 03-Nov-2023 00:40 | 260 | ||
buildsrc-out.txt | 03-Nov-2023 00:40 | 779 | ||
buildsrc-summary.dcf | 03-Nov-2023 00:40 | 419 | ||
checksrc-out.txt | 03-Nov-2023 00:40 | 9.4K | ||
checksrc-summary.dcf | 03-Nov-2023 00:40 | 432 | ||