Name | Last modified | Size | Description | |
---|---|---|---|---|
Parent Directory | - | |||
buildbin-out.txt | 18-Apr-2024 00:38 | 12K | ||
buildbin-summary.dcf | 18-Apr-2024 00:38 | 590 | ||
buildsrc-out.txt | 18-Apr-2024 00:38 | 886 | ||
buildsrc-summary.dcf | 18-Apr-2024 00:38 | 458 | ||
checksrc-out.txt | 18-Apr-2024 00:38 | 13K | ||
checksrc-summary.dcf | 18-Apr-2024 00:38 | 490 | ||
install-out.txt | 18-Apr-2024 00:38 | 9.0K | ||
install-summary.dcf | 18-Apr-2024 00:38 | 290 | ||