Name | Last modified | Size | Description | |
---|---|---|---|---|
Parent Directory | - | |||
install-summary.dcf | 05-Mar-2024 01:37 | 290 | ||
buildsrc-summary.dcf | 05-Mar-2024 01:37 | 458 | ||
checksrc-summary.dcf | 05-Mar-2024 01:37 | 490 | ||
buildbin-summary.dcf | 05-Mar-2024 01:37 | 591 | ||
buildsrc-out.txt | 05-Mar-2024 01:37 | 886 | ||
install-out.txt | 05-Mar-2024 01:37 | 9.0K | ||
buildbin-out.txt | 05-Mar-2024 01:37 | 12K | ||
checksrc-out.txt | 05-Mar-2024 01:37 | 13K | ||