Name | Last modified | Size | Description | |
---|---|---|---|---|
Parent Directory | - | |||
checksrc-out.txt | 21-Oct-2023 00:41 | 13K | ||
checksrc-summary.dcf | 21-Oct-2023 00:41 | 448 | ||
install-out.txt | 03-Nov-2023 00:41 | 6.4K | ||
install-summary.dcf | 03-Nov-2023 00:41 | 274 | ||
buildsrc-out.txt | 03-Nov-2023 00:41 | 6.4K | ||
buildsrc-summary.dcf | 03-Nov-2023 00:41 | 347 | ||