Name | Last modified | Size | Description | |
---|---|---|---|---|
Parent Directory | - | |||
install-summary.dcf | 18-Apr-2024 00:38 | 275 | ||
install-out.txt | 18-Apr-2024 00:38 | 2.3K | ||
checksrc-summary.dcf | 18-Apr-2024 00:38 | 462 | ||
checksrc-out.txt | 18-Apr-2024 00:38 | 4.7K | ||
buildsrc-summary.dcf | 18-Apr-2024 00:38 | 437 | ||
buildsrc-out.txt | 18-Apr-2024 00:38 | 921 | ||
buildbin-summary.dcf | 18-Apr-2024 00:38 | 548 | ||
buildbin-out.txt | 18-Apr-2024 00:38 | 4.2K | ||