Name | Last modified | Size | Description | |
---|---|---|---|---|
Parent Directory | - | |||
install-out.txt | 05-Mar-2024 01:37 | 2.3K | ||
install-summary.dcf | 05-Mar-2024 01:37 | 275 | ||
buildsrc-out.txt | 05-Mar-2024 01:37 | 921 | ||
buildsrc-summary.dcf | 05-Mar-2024 01:37 | 435 | ||
checksrc-out.txt | 05-Mar-2024 01:37 | 5.6K | ||
checksrc-summary.dcf | 05-Mar-2024 01:37 | 460 | ||
buildbin-out.txt | 05-Mar-2024 01:37 | 4.2K | ||
buildbin-summary.dcf | 05-Mar-2024 01:37 | 548 | ||