Name | Last modified | Size | Description | |
---|---|---|---|---|
Parent Directory | - | |||
checksrc-out.txt | 23-Feb-2024 01:37 | 3.1K | ||
checksrc-summary.dcf | 23-Feb-2024 01:37 | 433 | ||
buildbin-out.txt | 23-Feb-2024 01:37 | 1.0K | ||
buildbin-summary.dcf | 23-Feb-2024 01:37 | 494 | ||
install-out.txt | 18-Apr-2024 00:37 | 962 | ||
install-summary.dcf | 18-Apr-2024 00:37 | 261 | ||
buildsrc-summary.dcf | 18-Apr-2024 00:37 | 358 | ||
buildsrc-out.txt | 18-Apr-2024 00:37 | 1.1K | ||