Name | Last modified | Size | Description | |
---|---|---|---|---|
Parent Directory | - | |||
buildsrc-out.txt | 18-Apr-2024 00:36 | 1.1K | ||
buildsrc-summary.dcf | 18-Apr-2024 00:36 | 326 | ||
checksrc-out.txt | 23-Feb-2024 01:36 | 3.2K | ||
checksrc-summary.dcf | 23-Feb-2024 01:36 | 400 | ||
install-out.txt | 18-Apr-2024 00:36 | 951 | ||
install-summary.dcf | 18-Apr-2024 00:36 | 252 | ||