Name | Last modified | Size | Description | |
---|---|---|---|---|
Parent Directory | - | |||
install-summary.dcf | 05-Mar-2024 01:37 | 262 | ||
buildsrc-summary.dcf | 05-Mar-2024 01:37 | 336 | ||
checksrc-summary.dcf | 23-Feb-2024 01:38 | 430 | ||
buildbin-summary.dcf | 23-Feb-2024 01:38 | 509 | ||
install-out.txt | 05-Mar-2024 01:37 | 1.0K | ||
buildsrc-out.txt | 05-Mar-2024 01:37 | 1.1K | ||
buildbin-out.txt | 23-Feb-2024 01:38 | 1.1K | ||
checksrc-out.txt | 23-Feb-2024 01:38 | 3.2K | ||