Name | Last modified | Size | Description | |
---|---|---|---|---|
Parent Directory | - | |||
buildbin-out.txt | 18-Apr-2024 00:38 | 27K | ||
buildbin-summary.dcf | 18-Apr-2024 00:38 | 542 | ||
buildsrc-out.txt | 18-Apr-2024 00:38 | 854 | ||
buildsrc-summary.dcf | 18-Apr-2024 00:38 | 434 | ||
checksrc-out.txt | 18-Apr-2024 00:38 | 5.5K | ||
checksrc-summary.dcf | 18-Apr-2024 00:38 | 458 | ||
install-out.txt | 18-Apr-2024 00:38 | 24K | ||
install-summary.dcf | 18-Apr-2024 00:38 | 273 | ||