Name | Last modified | Size | Description | |
---|---|---|---|---|
Parent Directory | - | |||
install-out.txt | 18-Apr-2024 00:37 | 13K | ||
install-summary.dcf | 18-Apr-2024 00:37 | 301 | ||
buildsrc-out.txt | 18-Apr-2024 00:37 | 1.0K | ||
buildsrc-summary.dcf | 18-Apr-2024 00:37 | 484 | ||
checksrc-out.txt | 18-Apr-2024 00:37 | 5.0K | ||
checksrc-summary.dcf | 18-Apr-2024 00:37 | 484 | ||
buildbin-out.txt | 18-Apr-2024 00:37 | 12K | ||
buildbin-summary.dcf | 18-Apr-2024 00:37 | 546 | ||