Name | Last modified | Size | Description | |
---|---|---|---|---|
Parent Directory | - | |||
buildbin-out.txt | 18-Apr-2024 00:38 | 24K | ||
buildbin-summary.dcf | 18-Apr-2024 00:38 | 524 | ||
buildsrc-out.txt | 18-Apr-2024 00:38 | 930 | ||
buildsrc-summary.dcf | 18-Apr-2024 00:38 | 423 | ||
checksrc-out.txt | 18-Apr-2024 00:38 | 4.5K | ||
checksrc-summary.dcf | 18-Apr-2024 00:38 | 445 | ||
install-out.txt | 18-Apr-2024 00:38 | 22K | ||
install-summary.dcf | 18-Apr-2024 00:38 | 268 | ||