Name | Last modified | Size | Description | |
---|---|---|---|---|
Parent Directory | - | |||
buildbin-out.txt | 18-Apr-2024 00:38 | 1.3K | ||
buildbin-summary.dcf | 18-Apr-2024 00:38 | 573 | ||
buildsrc-out.txt | 18-Apr-2024 00:38 | 907 | ||
buildsrc-summary.dcf | 18-Apr-2024 00:38 | 449 | ||
checksrc-out.txt | 18-Apr-2024 00:38 | 5.1K | ||
checksrc-summary.dcf | 18-Apr-2024 00:38 | 473 | ||
install-out.txt | 18-Apr-2024 00:38 | 1.1K | ||
install-summary.dcf | 18-Apr-2024 00:38 | 284 | ||