Name | Last modified | Size | Description | |
---|---|---|---|---|
Parent Directory | - | |||
buildsrc-out.txt | 03-Nov-2023 00:41 | 891 | ||
buildsrc-summary.dcf | 03-Nov-2023 00:41 | 432 | ||
checksrc-out.txt | 03-Nov-2023 00:41 | 5.8K | ||
checksrc-summary.dcf | 03-Nov-2023 00:41 | 449 | ||
install-out.txt | 03-Nov-2023 00:41 | 1.2K | ||
install-summary.dcf | 03-Nov-2023 00:41 | 267 | ||