Name | Last modified | Size | Description | |
---|---|---|---|---|
Parent Directory | - | |||
buildbin-out.txt | 05-Mar-2024 01:37 | 1.5K | ||
buildbin-summary.dcf | 05-Mar-2024 01:37 | 524 | ||
buildsrc-out.txt | 05-Mar-2024 01:37 | 875 | ||
buildsrc-summary.dcf | 05-Mar-2024 01:37 | 424 | ||
checksrc-out.txt | 05-Mar-2024 01:37 | 3.7K | ||
checksrc-summary.dcf | 05-Mar-2024 01:37 | 440 | ||
install-out.txt | 05-Mar-2024 01:37 | 1.3K | ||
install-summary.dcf | 05-Mar-2024 01:37 | 267 | ||