Name | Last modified | Size | Description | |
---|---|---|---|---|
Parent Directory | - | |||
buildbin-out.txt | 18-Apr-2024 00:37 | 8.0K | ||
buildbin-summary.dcf | 18-Apr-2024 00:37 | 504 | ||
buildsrc-out.txt | 18-Apr-2024 00:37 | 930 | ||
buildsrc-summary.dcf | 18-Apr-2024 00:37 | 444 | ||
checksrc-out.txt | 18-Apr-2024 00:37 | 5.1K | ||
checksrc-summary.dcf | 18-Apr-2024 00:37 | 439 | ||
install-out.txt | 18-Apr-2024 00:37 | 7.9K | ||
install-summary.dcf | 18-Apr-2024 00:37 | 264 | ||