Name | Last modified | Size | Description | |
---|---|---|---|---|
Parent Directory | - | |||
buildbin-out.txt | 05-Mar-2024 01:37 | 11K | ||
buildbin-summary.dcf | 05-Mar-2024 01:37 | 519 | ||
buildsrc-out.txt | 05-Mar-2024 01:37 | 910 | ||
buildsrc-summary.dcf | 05-Mar-2024 01:37 | 422 | ||
checksrc-out.txt | 05-Mar-2024 01:37 | 5.3K | ||
checksrc-summary.dcf | 05-Mar-2024 01:37 | 442 | ||
install-out.txt | 05-Mar-2024 01:37 | 8.4K | ||
install-summary.dcf | 05-Mar-2024 01:37 | 265 | ||