Index of /checkResults/3.18/bioc-LATEST/QuasR/raw-results/kunpeng2
Name
Last modified
Size
Description
Parent Directory
-
buildsrc-out.txt
03-Nov-2023 00:41
1.1K
buildsrc-summary.dcf
03-Nov-2023 00:41
324
install-out.txt
03-Nov-2023 00:41
6.3K
install-summary.dcf
03-Nov-2023 00:41
249