Name | Last modified | Size | Description | |
---|---|---|---|---|
Parent Directory | - | |||
buildbin-out.txt | 18-Apr-2024 00:36 | 2.2K | ||
buildbin-summary.dcf | 18-Apr-2024 00:36 | 562 | ||
buildsrc-out.txt | 18-Apr-2024 00:36 | 939 | ||
buildsrc-summary.dcf | 18-Apr-2024 00:36 | 485 | ||
checksrc-out.txt | 18-Apr-2024 00:36 | 5.6K | ||
checksrc-summary.dcf | 18-Apr-2024 00:36 | 485 | ||
install-out.txt | 18-Apr-2024 00:36 | 2.0K | ||
install-summary.dcf | 18-Apr-2024 00:36 | 284 | ||