Name | Last modified | Size | Description | |
---|---|---|---|---|
Parent Directory | - | |||
install-summary.dcf | 18-Apr-2024 00:36 | 275 | ||
buildsrc-summary.dcf | 18-Apr-2024 00:36 | 441 | ||
checksrc-summary.dcf | 18-Apr-2024 00:36 | 452 | ||
buildsrc-out.txt | 18-Apr-2024 00:36 | 901 | ||
install-out.txt | 18-Apr-2024 00:36 | 2.2K | ||
checksrc-out.txt | 18-Apr-2024 00:36 | 5.7K | ||