Index of /checkResults/3.18/bioc-LATEST/MQmetrics/raw-results/merida1
Name
Last modified
Size
Description
Parent Directory
-
install-summary.dcf
18-Apr-2024 00:37
273
buildsrc-summary.dcf
18-Apr-2024 00:37
347
install-out.txt
18-Apr-2024 00:37
1.0K
buildsrc-out.txt
18-Apr-2024 00:37
1.2K