Index of /checkResults/3.18/bioc-LATEST/HiCool/raw-results/kunpeng2
Name
Last modified
Size
Description
Parent Directory
-
buildsrc-out.txt
03-Nov-2023 00:40
634
buildsrc-summary.dcf
03-Nov-2023 00:40
331
install-out.txt
03-Nov-2023 00:40
817
install-summary.dcf
03-Nov-2023 00:40
250